BEGIN:VCALENDAR
VERSION:2.0
PRODID:-//Davines Ferma | Vieta Tavo Renginiams - ECPv6.15.17//NONSGML v1.0//EN
CALSCALE:GREGORIAN
METHOD:PUBLISH
X-WR-CALNAME:Davines Ferma | Vieta Tavo Renginiams
X-ORIGINAL-URL:https://davinesferma.lt/en
X-WR-CALDESC:Events for Davines Ferma | Vieta Tavo Renginiams
REFRESH-INTERVAL;VALUE=DURATION:PT1H
X-Robots-Tag:noindex
X-PUBLISHED-TTL:PT1H
BEGIN:VTIMEZONE
TZID:Europe/Vilnius
BEGIN:DAYLIGHT
TZOFFSETFROM:+0200
TZOFFSETTO:+0300
TZNAME:EEST
DTSTART:20250330T010000
END:DAYLIGHT
BEGIN:STANDARD
TZOFFSETFROM:+0300
TZOFFSETTO:+0200
TZNAME:EET
DTSTART:20251026T010000
END:STANDARD
BEGIN:DAYLIGHT
TZOFFSETFROM:+0200
TZOFFSETTO:+0300
TZNAME:EEST
DTSTART:20260329T010000
END:DAYLIGHT
BEGIN:STANDARD
TZOFFSETFROM:+0300
TZOFFSETTO:+0200
TZNAME:EET
DTSTART:20261025T010000
END:STANDARD
BEGIN:DAYLIGHT
TZOFFSETFROM:+0200
TZOFFSETTO:+0300
TZNAME:EEST
DTSTART:20270328T010000
END:DAYLIGHT
BEGIN:STANDARD
TZOFFSETFROM:+0300
TZOFFSETTO:+0200
TZNAME:EET
DTSTART:20271031T010000
END:STANDARD
END:VTIMEZONE
BEGIN:VEVENT
DTSTART;VALUE=DATE:20260206
DTEND;VALUE=DATE:20260207
DTSTAMP:20260420T001026
CREATED:20260107T115620Z
LAST-MODIFIED:20260203T135104Z
UID:1569-1770336000-1770422399@davinesferma.lt
SUMMARY:6 STIPRAUS MEISTRO STRATEGIJOS
DESCRIPTION:1 dienos praktiniai mokymai grožio meistrams ir salonų vadovams \n  \nŠiandien grožio rinkoje laimi tie\, kurie dirba ne daugiau\, bet aiškiau – turėdami sistemą\, kryptį ir tvirtą profesinį identitetą. \nŠie mokymai skirti tiems\, kurie nori stabilios klientų bazės\, aiškaus pozicionavimo ir augančių pajamų be chaotiškų bandymų. \n  \nMokymai naudingi\, jei: \n• pajamos svyruoja nepaisant didelio darbo krūvio\, \n• klientų srautas neprognozuojamas\, \n• sudėtinga aiškiai įvardyti savo išskirtinumą\, \n• komunikacija socialiniuose tinkluose neturi sistemos\, \n• verslas pernelyg priklausomas nuo asmeninės energijos. \n⸻ \nMokymų programa \n  \n6 stipraus meistro strategijos \n1. Profesinis identitetas ir tikslai \nAiškios krypties\, pasitikėjimo ir kainodaros pagrindai. \n2. Unikalumo formulė \nKaip tapti sąmoningu kliento pasirinkimu\, o ne atsitiktine alternatyva. \n3. Tikslinis klientas \nKaip pritraukti lojalius klientus ir sumažinti probleminių situacijų skaičių. \n4. Pozicionavimas ir aplinka \nKaip komunikacija ir darbo erdvė pradeda dirbti vietoje reklamos. \n5. Klientų pritraukimo sistema \nKaip kurti stabilų srautą vietoje pavienių kampanijų. \n6. Klientų išlaikymas \nKaip kurti ilgalaikius santykius ir prognozuojamas pajamas. \n⸻ \nPapildoma praktinė sesija \n14:00–15:30 | Marina Valiukonienė \nKaip kryptingai pritraukti klientus per socialinius tinklus \n• komunikacijos kryptys\, \n• realūs pavyzdžiai iš grožio sektoriaus\, \n• patarimai\, kuriuos galima taikyti iš karto po mokymų. \n⸻ \nTreneriai \nRenata – grožio verslo strategė\, daugiau nei 10 metų dirbanti su grožio meistrais ir salonų vadovais. Specializacija – profesinis identitetas\, kainodara\, klientų patirtis ir ilgalaikės pajamų sistemos kūrimas. \nMarina Valiukonienė – komunikacijos ir socialinių tinklų strategė\, dirbanti su asmeniniais prekių ženklais ir grožio verslais. Specializacija – aiškios komunikacijos struktūros\, kurios padeda pritraukti klientus be agresyvios reklamos. \n⸻ \nOrganizacinė informacija \n📅 2026 m. vasario 6 d. \n⏰ 10:00–16:00 (pietų pertrauka 12:00–12:30) \n📍 DAVINES FERMA | Ostruvkos kaimas 8\, Ostruvka\, 21142 Trakų r. sav. \n💶 79 € \n☕ Į kainą įskaičiuoti pietūs ir kavos pertraukos \n  \nJei tikslas – tapti meistru\, kurį klientai renkasi dėl vertės\, o ne kainos\, registracija jau atidaryta. \nINFORMACIJA ir REGISTRACIJA:  \nKLAIPĖDA +37069600262 \nKAUNAS +37061000592 | +37067308087 \nVILNIUS +37062016130 | +37067672500 | +37067699918
URL:https://davinesferma.lt/en/mokymas/6-stipraus-meistro-strategijos/
LOCATION:Davines Ferma\, Ostruvkos kaimas 8\, Senieji Trakai\, Trakų r. sav.\, 21142\, Lithuania
ATTACH;FMTTYPE=image/png:https://davinesferma.lt/wp-content/uploads/2026/01/davines-ads-1.png
END:VEVENT
BEGIN:VEVENT
DTSTART;VALUE=DATE:20260209
DTEND;VALUE=DATE:20260210
DTSTAMP:20260420T001026
CREATED:20260119T112704Z
LAST-MODIFIED:20260206T131234Z
UID:1617-1770595200-1770681599@davinesferma.lt
SUMMARY:AŠ ESU DAVINES (1 diena)
DESCRIPTION:Mokymai su Egle Lučkauskiene \nAŠ ESU DAVINES – tai vienos dienos įvadiniai mokymai plaukų meistrams\, norintiems giliau pažinti Davines pasaulį\, jo filosofiją ir tvaraus grožio sampratą. \nSeminaro metu susipažinsite su Davines prekės ženklo koncepcija\, vertybėmis bei daugiau nei 20 metų patirtimi Lietuvoje. Mokymai skirti tiek meistrams\, pradedantiems dirbti su Davines\, tiek tiems\, kurie nori atnaujinti ir sustiprinti savo žinias\, kad galėtų užtikrintai taikyti produktus kasdienėje praktikoje. \n\nMokymų metu:\n\nsusipažinsite su Davines filosofija\, tvarumo principais ir prekės ženklo išskirtinumu;\nišsamiai apžvelgsite Davines produktų asortimentą\, linijas\, sudėtis ir jų naudą skirtingiems plaukų bei galvos odos poreikiams;\nteorines žinias iš karto pritaikysite praktiškai;\ngausite aiškų pagrindą tolimesniam darbui ir mokymams su Davines.\n\n\nLektorė: Eglė LučkauskienėVieta: Trakai\, Davines mokymų akademija – Davines FermaData: 2026 m. vasario 9 d. 10:00-14:30Kaina: 20 € \n\nŠie mokymai – tai tvirtas pirmasis žingsnis į sąmoningą\, profesionalų ir tvarų darbą su Davines. \nINFORMACIJA ir REGISTRACIJA: \nKLAIPĖDA +37069600262 \nKAUNAS +37061000592 | +37067308087 \nVILNIUS +37062016130 | +37067672500 | +37067699918
URL:https://davinesferma.lt/en/mokymas/as-esu-davines-2/
LOCATION:Davines Ferma\, Ostruvkos kaimas 8\, Senieji Trakai\, Trakų r. sav.\, 21142\, Lithuania
ATTACH;FMTTYPE=image/png:https://davinesferma.lt/wp-content/uploads/2026/01/9627258f-0596-49c0-a2fb-3cb2147a7fb0.png
END:VEVENT
BEGIN:VEVENT
DTSTART;TZID=Europe/Vilnius:20260223T080000
DTEND;TZID=Europe/Vilnius:20260224T170000
DTSTAMP:20260420T001026
CREATED:20260119T113359Z
LAST-MODIFIED:20260212T201211Z
UID:1641-1771833600-1771952400@davinesferma.lt
SUMMARY:DAVINES KOLORISTIKA (2 dienų)
DESCRIPTION:Mokymai su Egle Lučkauskiene \nDAVINES KOLORISTIKA – tai dviejų dienų praktiniai koloristikos mokymai plaukų meistrams\, norintiems gilinti dažymo žinias ir užtikrintai dirbti su Davines dažų sistemomis. \nMokymų metu nuosekliai nagrinėjama tiek dažymo teorija\, tiek praktinis darbas su gyvais modeliais. Didelis dėmesys skiriamas plaukų būklės įvertinimui\, teisingam produkto parinkimui ir sąmoningiems\, profesionaliems koloristiniams sprendimams kasdieniame darbe. \n\nMokymų programa\n1 diena – Dažymo teorija ir praktika\n\ntamsinimas ir atspalvio keitimas\nžilų plaukų dažymas\ndarbas su Mask ir A New Colour dažų sistemomis\npraktinis darbas\n\n2 diena – Šviesinimas ir tonavimas\n\nšviesinimo principai ir technikos\ntonavimas ir spalvos korekcija\ndarbas su Century of Light\, The Present Time\, View\, Finest Pigments\, Alchemic\npraktika su gyvais modeliais\n\n\nLektorė: Eglė LučkauskienėVieta: Trakai\, Davines mokymų akademija – Davines FermaData: 2026 m. vasario 23–24 d.Kaina: 199 € \n\nŠie mokymai skirti meistrams\, siekiantiems gilesnio koloristikos supratimo\, tikslesnių rezultatų ir profesionalaus\, užtikrinto darbo su Davines dažų sistemomis.
URL:https://davinesferma.lt/en/mokymas/davines-koloristika-2-dienu/
LOCATION:Davines Ferma\, Ostruvkos kaimas 8\, Senieji Trakai\, Trakų r. sav.\, 21142\, Lithuania
ATTACH;FMTTYPE=image/png:https://davinesferma.lt/wp-content/uploads/2026/01/e5398b10-eb32-4d88-abe1-ff2904142290.png
END:VEVENT
BEGIN:VEVENT
DTSTART;TZID=Europe/Vilnius:20260228T100000
DTEND;TZID=Europe/Vilnius:20260228T170000
DTSTAMP:20260420T001026
CREATED:20260119T104538Z
LAST-MODIFIED:20260223T101022Z
UID:1607-1772272800-1772298000@davinesferma.lt
SUMMARY:MOTERIŠKAS KIRPIMAS SU KIRPIMO MEISTRAIS
DESCRIPTION:Moteriško kirpimo mokymai kirpimo meistrams\nŠie mokymai skirti kirpimo meistrams\, kurie nori gilesnio moteriško kirpimo supratimo – ne tik kaip atlikti techniką\, bet ir kodėl ji veikia. \nTai ne masiniai mokymai. Sąmoningai pasirinkta nedidelė grupė\, kad kiekvienas dalyvis gautų dėmesio\, galėtų dirbti ramiai ir pasiimtų realią naudą kasdieniam darbui salone. \n\nApie mokymus\nTema: Moteriškas kirpimasData: Vasario 28 d.Laikas: 10:00–18:00Vieta: FermaDalyvių skaičius: tik 16 vietų \nMokymai vyksta gyvai ir susideda iš teorinės bei praktinės dalies\, orientuotos į realų darbą su klientais. \n\nMokymų programa\nTeorinė dalis (1 val.)\nTeorinėje dalyje aptariama: \n\nmoteriško kirpimo pagrindinė logika ir formų suvokimas\nlinijų\, proporcijų ir balanso svarba\ndažniausiai pasitaikančios klaidos ir kaip jų išvengti\nkaip kurti kirpimą\, kuris lengvai prisitaiko prie kliento kasdienybės\n\nPraktinė dalis\n\nkirpimas ant manekeno galvos\ndarbas žingsnis po žingsnio\ndėmesys technikai\, švarai ir galutiniam rezultatui\n\npatarimai\, kaip tą pačią techniką pritaikyti skirtingiems plaukų tipams \n\nKam skirti šie mokymai?\nMokymai skirti kirpimo meistrams\, kurie: \n\nnori sustiprinti moteriško kirpimo pagrindus\nsiekia švaresnių\, ilgiau formą išlaikančių kirpimų\nieško daugiau aiškumo ir pasitikėjimo savo technikoje\nnori dirbti ramiau\, sąmoningiau ir užtikrinčiau\n\n\nKaina ir kas įskaičiuota\nMokymų kaina: 350 € \nĮ kainą įskaičiuota: \n\nmanekeno galva praktinei daliai\nmaistas mokymų metu\n\n\nPapildoma informacija\n\nDalyvių skaičius ribotas – tik 16 vietų\nMokymai vyksta gyvai\nVisus reikalingus įrankius (žirkles\, šukas ir kt.) dalyviai atsineša savarankiškai
URL:https://davinesferma.lt/en/mokymas/moteriskas-kirpimas-su-kirpimo-meistrais/
LOCATION:Davines Ferma\, Ostruvkos kaimas 8\, Senieji Trakai\, Trakų r. sav.\, 21142\, Lithuania
ATTACH;FMTTYPE=image/png:https://davinesferma.lt/wp-content/uploads/2026/01/5faa48d9-78f2-45cd-b8d6-ec92378cc768.png
END:VEVENT
BEGIN:VEVENT
DTSTART;TZID=Europe/Vilnius:20260310T100000
DTEND;TZID=Europe/Vilnius:20260310T170000
DTSTAMP:20260420T001026
CREATED:20260127T211714Z
LAST-MODIFIED:20260223T101038Z
UID:1764-1773136800-1773162000@davinesferma.lt
SUMMARY:TOTAL BLONDE IR TONAVIMAS
DESCRIPTION:1 dienos mokymai su Joana Bagrinceva\n📅 Kovo 10 d. \nŠie mokymai skirti kirpėjams–koloristams\, siekiantiems švarių\, individualizuotų ir profesionalių šviesinimo bei tonavimo rezultatų. Programoje derinama aiški teorija ir intensyvi praktika\, leidžianti giliau suprasti blondinių technikų logiką ir Davines dažų sistemų galimybes. \nMokymų metu susipažinsite su šiomis Davines dažų linijomis:\nThe Century of Light\, Mask\, The Present Time\, View\, Finest Pigments ir Alchemic – jų skirtumais\, pritaikymu ir derinimu realiose situacijose. \nMokymų metu sužinosite:\n\nKaip įvertinti plaukų būklę ir pasirinkti tinkamiausią šviesinimo produktą bei techniką\nDažniausiai pasitaikančias klaidas dirbant su šviesinimu ir kaip jų išvengti\nKaip sudaryti tikslias\, veiksmingas formules pagal kliento poreikius\nUžtepimo principus ir sekcijų parinkimą švariam\, tolygiam rezultatui\nKaip tinkamai paruošti plaukus prieš tonavimą: porėtumo suvienodinimas ir jo reikšmė\npH svarbą: kada rinktis rūgštinius\, o kada – šarminius dažus\nTiesioginių ir oksidacinių pigmentų skirtumus\nSkirtingų tonavimo galimybių taikymą naudojant Mask\, The Present Time\, View\, Finest Pigments ir Alchemic sistemas\nDvigubo tonavimo principus ir jų naudą rezultatui\n\nPraktinė dalis:\nPraktika vyks dirbant su gyvais modeliais – nuo konsultacijos ir plaukų būklės įvertinimo iki dažų\, formulių ir technikos parinkimo bei galutinio rezultato. Tai galimybė pritaikyti teorines žinias realiose situacijose ir sustiprinti pasitikėjimą savo sprendimais kasdieniame darbe. \n💶 Kaina: 88 €\n📍 Vieta: Davines Ferma
URL:https://davinesferma.lt/en/mokymas/total-blonde-ir-tonavimas/
LOCATION:Davines Ferma\, Ostruvkos kaimas 8\, Senieji Trakai\, Trakų r. sav.\, 21142\, Lithuania
ATTACH;FMTTYPE=image/png:https://davinesferma.lt/wp-content/uploads/2026/01/1c417774-546a-49cb-9989-6c35547e1bf1.png
END:VEVENT
BEGIN:VEVENT
DTSTART;TZID=Europe/Vilnius:20260325T100000
DTEND;TZID=Europe/Vilnius:20260325T170000
DTSTAMP:20260420T001026
CREATED:20260127T212307Z
LAST-MODIFIED:20260228T063918Z
UID:1767-1774432800-1774458000@davinesferma.lt
SUMMARY:DAVINES PLAUKŲ PROCEDŪROS
DESCRIPTION:1 dienos mokymai su Erika Inokaitiene \nTeorija ir praktika \nŠie mokymai skirti kirpėjams ir grožio specialistams\, norintiems giliau suprasti plaukų ir galvos odos priežiūrą\, išmokti taikyti efektyvias Davines procedūras salone ir užtikrinti ilgalaikius rezultatus klientams. \nMokymų metu pasinersime į Davines plaukų priežiūros pasaulį ir susipažinsime su Davines Natural Tech linija – jos filosofija\, koncepcija bei produktų asortimentu. \nMokymų metu sužinosite:\n\nIšsamią informaciją apie Natural Tech plaukų ir galvos odos priežiūros liniją\nEfektyvius sprendimus dažniausioms galvos odos ir plaukų problemoms spręsti\nKaip pasirinkti ir pritaikyti tinkamiausias procedūras kiekvienam klientui\, suprantant jų skirtumus ir poveikį\nProcedūrų taikymo protokolus salone bei rekomendacijas tolimesnei priežiūrai namuose\nDavines ritualus ir masažus\, padedančius mažinti įtampą\, skatinti atsipalaidavimą ir atkurti plaukų bei galvos odos balansą\n\nPraktinė dalis:\nPraktikos metu išmoksite teisingai atlikti konsultaciją\, įvertinti kliento poreikius ir parinkti efektyviausią procedūrą. Taip pat sužinosite\, kaip derinti skirtingas procedūras tarpusavyje bei kaip edukuoti klientą tęsti priežiūrą namuose. \nProcedūros bus atliekamos su gyvais modeliais\, todėl įgysite praktinių įgūdžių realiose saloninėse situacijose. \n📅 Kovo 25 d.\n💶 Kaina: 49 €\n📍 Vieta: Davines Ferma
URL:https://davinesferma.lt/en/mokymas/davines-plauku-proceduros/
LOCATION:Davines Ferma\, Ostruvkos kaimas 8\, Senieji Trakai\, Trakų r. sav.\, 21142\, Lithuania
ATTACH;FMTTYPE=image/png:https://davinesferma.lt/wp-content/uploads/2026/01/41092709-3ca0-4458-bd95-578b06348911.png
END:VEVENT
BEGIN:VEVENT
DTSTART;TZID=Europe/Vilnius:20260413T100000
DTEND;TZID=Europe/Vilnius:20260413T170000
DTSTAMP:20260420T001026
CREATED:20260203T140504Z
LAST-MODIFIED:20260223T101108Z
UID:1811-1776074400-1776099600@davinesferma.lt
SUMMARY:ILGALAIKIS PLAUKŲ GARBANOJIMAS
DESCRIPTION:1 dienos seminaras | Teorija ir praktika\nSu Egle Lučkauskiene \n📍 Vieta: Trakai\, Davines mokymų akademija – Davines Ferma\n📅 Data: 2026 m. balandžio 13 d.\n💶 Kaina: 88 € \nApie seminarą\nIlgalaikis plaukų garbanojimas šiandien sparčiai grįžta į grožio salonus kaip viena paklausiausių ir universaliausių paslaugų. Šiuolaikinis ilgalaikis garbanojimas – tai ne agresyvi procedūra\, o subtilus būdas suteikti plaukams tekstūros\, apimties ir lengvai valdomą formą. \nTai ilgalaikio sušukavimo sprendimas\, kuris išsilaiko kelis mėnesius ir palaipsniui išnyksta\, prisitaikydamas prie plaukų augimo ir natūralios struktūros. Seminaro metu bus nagrinėjama\, kaip saugiai ir profesionaliai pritaikyti šią paslaugą skirtingiems klientams\, pasitelkiant modernias technologijas ir Davines filosofiją. \nMokymų metu sužinosite: \n\nKaip taisyklingai atlikti ilgalaikį plaukų garbanojimą ir sukurti skirtingas plaukų tekstūras.\nKaip parinkti tinkamiausią garbanojimo techniką pagal plaukų tipą\, būklę ir ilgį.\nKoks yra ilgalaikio garbanojimo proceso veikimo principas ir kokį poveikį jis daro plaukams.\nKaip dirbti su Davines „Boucle Biowaving“ ilgalaikio garbanojimo sistema ir ją praktiškai pritaikyti.\n\nPraktinė dalis \nPraktinėje seminaro dalyje bus nuosekliai pereinamas visas ilgalaikio garbanojimo procesas: \n\nKliento konsultacija ir lūkesčių išgryninimas\nPlaukų būklės\, struktūros ir ilgio įvertinimas\nTinkamiausios garbanojimo technikos parinkimas\nProcedūros atlikimas ir rezultatų analizė\n\nDalyviai turės galimybę praktiškai susipažinti su procedūra ir įgyti realių\, kasdienėje salonų praktikoje pritaikomų žinių. \nKam skirtas seminaras? \nSeminaras skirtas kirpėjams ir stilistams\, norintiems: \n\natnaujinti žinias apie ilgalaikį garbanojimą\,\nišplėsti paslaugų spektrą salone\,\ndirbti su moderniomis\, plaukams draugiškomis sistemomis\,\npasiūlyti klientams ilgalaikį\, estetišką ir lengvai prižiūrimą rezultatą.
URL:https://davinesferma.lt/en/mokymas/davines-plauku-proceduros-2/
LOCATION:Davines Ferma\, Ostruvkos kaimas 8\, Senieji Trakai\, Trakų r. sav.\, 21142\, Lithuania
ATTACH;FMTTYPE=image/jpeg:https://davinesferma.lt/wp-content/uploads/2026/02/0ecd7746-8f99-4d25-af52-fa76692561a9-1.jpg
END:VEVENT
BEGIN:VEVENT
DTSTART;TZID=Europe/Vilnius:20260422T100000
DTEND;TZID=Europe/Vilnius:20260422T170000
DTSTAMP:20260420T001026
CREATED:20260213T150404Z
LAST-MODIFIED:20260305T090558Z
UID:1986-1776852000-1776877200@davinesferma.lt
SUMMARY:SKIRTINGOS ŠVIESINIMO TECHNIKOS
DESCRIPTION:SKIRTINGOS ŠVIESINIMO TECHNIKOS\nAutorinis Irinos Voropajevos seminaras\nTeorija + praktika \n📍 Vieta: Trakai\, Davines mokymų akademija – Davines Ferma\n💶 Kaina: 250€ \nŠiuolaikinė blondinė – tai ne viena formulė\, o gebėjimas pritaikyti techniką pagal kiekvieną klientą.\nŠie autoriniai mokymai skirti meistrams\, kurie nori išmokti kombinuoti skirtingus šviesinimo metodus\, kurti reljefą\, gylį ir individualų rezultatą. \nPer vieną intensyvią dieną įgysite aiškią sistemą\, kurią galėsite taikyti iškart savo darbe. \nMokymų metu:\n\nišmoksite kontūravimo techniką;\ngilinsitės į Babylights / Highlights – nuo švelnių iki ryškių sruogelių;\nsusipažinsite su Shatush principu;\natskleisime reljefinio dažymo paslaptis;\nmokysitės išgauti harmoningą šviesių tonų balansą;\nįvaldysite tonavimo techniką „Blur“.\n\nPraktinė dalis\nNuo konsultacijos ir plauko diagnostikos iki formulės bei technikos pasirinkimo. Dirbsite su gyvais modeliais\, spręsite realias situacijas ir stiprinsite įgūdžius\, reikalingus užtikrintam rezultatui salone. \nPo mokymų:\n✔ geriau suprasite\, kuri technika tinkamiausia konkrečiam klientui\n✔ gebėsite kurti natūralų ar išraiškingą reljefą\n✔ drąsiau dirbsite su šviesinimu\n✔ turėsite aiškią veiksmų seką nuo konsultacijos iki tonavimo
URL:https://davinesferma.lt/en/mokymas/skirtingos-sviesinimo-technikos/
LOCATION:Davines Ferma\, Ostruvkos kaimas 8\, Senieji Trakai\, Trakų r. sav.\, 21142\, Lithuania
ATTACH;FMTTYPE=image/jpeg:https://davinesferma.lt/wp-content/uploads/2026/02/asd.jpg
END:VEVENT
BEGIN:VEVENT
DTSTART;TZID=Europe/Vilnius:20260427T100000
DTEND;TZID=Europe/Vilnius:20260427T170000
DTSTAMP:20260420T001026
CREATED:20260203T141228Z
LAST-MODIFIED:20260223T101130Z
UID:1815-1777284000-1777309200@davinesferma.lt
SUMMARY:PLAUKŲ FENAVIMAS IR ŠIUOLAIKIŠKAS FORMAVIMAS
DESCRIPTION:1 dienos seminaras | Teorija ir praktika\nSu Egle Lučkauskiene \n📍 Vieta: Trakai\, Davines mokymų akademija – Davines Ferma\n📅 Data: 2026 m. balandžio 27 d.\n💶 Kaina: 88 € \nApie seminarą\nKad ir kokia tobula būtų plaukų spalva ar kirpimas\, galutinis rezultatas visada priklauso nuo teisingo plaukų išdžiovinimo ir suformavimo. Šis seminaras skirtas kirpėjams\, norintiems stiprinti kasdienius formavimo įgūdžius ir kurti šiuolaikiškus\, estetiškus rezultatus salone. \nMokymų metu sužinosite: \n\nKodėl svarbus tinkamas plaukų paruošimas ir pirminis džiovinimas.\nKokius džiovinimo įrankius rinktis skirtingose situacijose.\nKaip formuoti džiovinant: taisyklingai pakelti plaukus nuo šaknų\, juos užsukti ar ištiesinti.\nKaip pasirinkti tinkamus formavimo įrankius pagal norimą rezultatą.\nKaip dirbti su Davines „More Inside“ formavimo priemonių linija kasdieniniame salono darbe.\n\nPraktinė dalis \nTeorinės žinios bus pritaikomos praktiškai – dalyviai išbandys džiovinimo ir formavimo technikas realiomis salono sąlygomis\, siekiant užtikrinto\, ilgai išliekančio rezultato.
URL:https://davinesferma.lt/en/mokymas/plauku-fenavimas-ir-siuolaikiskas-formavimas/
LOCATION:Davines Ferma\, Ostruvkos kaimas 8\, Senieji Trakai\, Trakų r. sav.\, 21142\, Lithuania
ATTACH;FMTTYPE=image/jpeg:https://davinesferma.lt/wp-content/uploads/2026/02/e7a04aae-dbbe-4576-b46d-0e24920893e7.jpg
END:VEVENT
BEGIN:VEVENT
DTSTART;TZID=Europe/Vilnius:20260504T100000
DTEND;TZID=Europe/Vilnius:20260505T170000
DTSTAMP:20260420T001026
CREATED:20260216T183402Z
LAST-MODIFIED:20260216T184709Z
UID:1980-1777888800-1778000400@davinesferma.lt
SUMMARY:DAVINES KOLORISTIKA
DESCRIPTION:DAVINES KOLORISTIKA (2 dienos)\nSu Egle Lučkauskiene\nTeorija + praktika \n📍 Vieta: Trakai\, Davines mokymų akademija – Davines Ferma\n \n💶 Kaina: 199€ \nPasitikėjimas koloristikoje atsiranda tada\, kai aiškiai supranti kodėl darai vieną ar kitą sprendimą.\nŠie dviejų dienų mokymai skirti meistrams\, kurie nori pradėti dirbti su Davines dažais arba pagilinti jau turimas žinias ir jaustis tvirtai kiekvienoje situacijoje. \nPer dvi intensyvias dienas sujungsite teoriją su praktika ir išsinešite ne tik informaciją\, bet ir realų suvokimą\, kaip ją taikyti salone. \nMokymų metu:\n\nprisiminsime svarbiausias dažymo ir koloristikos teorijas bei jų pritaikymą kasdienėje praktikoje;\nsuprasite\, kaip veikia skirtingos dažų sistemos ir kaip tai padeda greičiau bei tiksliau priimti sprendimus;\nišmoksite atlikti profesionalią konsultaciją – svarbiausią žingsnį tobulo rezultato link;\nmokysitės įvertinti plaukų būklę ir numatyti visus veiksnius\, lemiančius dažų bei technikos pasirinkimą;\nsusipažinsite su Davines dažų šeimomis ir jas išbandysite praktiškai.\n\nPrograma\n1 diena – tamsinimas\, atspalvio keitimas\, žilų plaukų dengimas\, lengvas šviesinimas.\n2 diena – blondinių pasaulis. \nPraktinė dalis\nNuo konsultacijos iki galutinio rezultato. Dirbsite su gyvais modeliais\, savarankiškai priimsite sprendimus\, parinksite formules ir technikas\, o lektorė padės suprasti\, kaip užtikrinti prognozuojamą\, stabilų rezultatą. \nPo mokymų:\n✔ aiškiau suprasite spalvos logiką\n✔ greičiau parinksite formules\n✔ jausitės tvirčiau konsultuodami klientus\n✔ užtikrintai dirbsite su Davines sistemomis
URL:https://davinesferma.lt/en/mokymas/davines-koloristika/
LOCATION:Davines Ferma\, Ostruvkos kaimas 8\, Senieji Trakai\, Trakų r. sav.\, 21142\, Lithuania
ATTACH;FMTTYPE=image/png:https://davinesferma.lt/wp-content/uploads/2026/02/davines-ads-2-1.png
END:VEVENT
BEGIN:VEVENT
DTSTART;TZID=Europe/Vilnius:20260506T100000
DTEND;TZID=Europe/Vilnius:20260506T170000
DTSTAMP:20260420T001026
CREATED:20260316T065717Z
LAST-MODIFIED:20260316T071257Z
UID:2099-1778061600-1778086800@davinesferma.lt
SUMMARY:SKIRTINGOS ŠVIESINIMO TECHNIKOS
DESCRIPTION:SKIRTINGOS ŠVIESINIMO TECHNIKOS\nAutorinis Irinos Voropajevos seminaras\nTeorija + praktika \n📍 Vieta: Trakai\, Davines mokymų akademija – Davines Ferma\n💶 Kaina: 250€ \nŠiuolaikinė blondinė – tai ne viena formulė\, o gebėjimas pritaikyti techniką pagal kiekvieną klientą.\nŠie autoriniai mokymai skirti meistrams\, kurie nori išmokti kombinuoti skirtingus šviesinimo metodus\, kurti reljefą\, gylį ir individualų rezultatą. \nPer vieną intensyvią dieną įgysite aiškią sistemą\, kurią galėsite taikyti iškart savo darbe. \nMokymų metu:\n\nišmoksite kontūravimo techniką;\ngilinsitės į Babylights / Highlights – nuo švelnių iki ryškių sruogelių;\nsusipažinsite su Shatush principu;\natskleisime reljefinio dažymo paslaptis;\nmokysitės išgauti harmoningą šviesių tonų balansą;\nįvaldysite tonavimo techniką „Blur“.\n\nPraktinė dalis\nNuo konsultacijos ir plauko diagnostikos iki formulės bei technikos pasirinkimo. Dirbsite su gyvais modeliais\, spręsite realias situacijas ir stiprinsite įgūdžius\, reikalingus užtikrintam rezultatui salone. \nPo mokymų:\n✔ geriau suprasite\, kuri technika tinkamiausia konkrečiam klientui\n✔ gebėsite kurti natūralų ar išraiškingą reljefą\n✔ drąsiau dirbsite su šviesinimu\n✔ turėsite aiškią veiksmų seką nuo konsultacijos iki tonavimo
URL:https://davinesferma.lt/en/mokymas/skirtingos-sviesinimo-technikos-2/
LOCATION:Davines Ferma\, Ostruvkos kaimas 8\, Senieji Trakai\, Trakų r. sav.\, 21142\, Lithuania
ATTACH;FMTTYPE=image/jpeg:https://davinesferma.lt/wp-content/uploads/2026/03/visi.jpg
END:VEVENT
BEGIN:VEVENT
DTSTART;TZID=Europe/Vilnius:20260609T100000
DTEND;TZID=Europe/Vilnius:20260609T170000
DTSTAMP:20260420T001026
CREATED:20260305T114008Z
LAST-MODIFIED:20260305T115138Z
UID:2076-1780999200-1781024400@davinesferma.lt
SUMMARY:TOTAL BLONDE IR TONAVIMAS
DESCRIPTION:1 dienos mokymai su Joana Bagrinceva \n📅 birželio 9d. \nŠie mokymai skirti kirpėjams–koloristams\, norintiems pasiekti švarius\, prognozuojamus blond ir tonavimo rezultatus bei geriau suprasti Davines dažų sistemų veikimą. \nProgramoje derinama aiški teorija ir praktika su gyvais modeliais\, todėl žinias galėsite iš karto pritaikyti realiose situacijose. \nMokymų metu sužinosite:\n\nkaip tiksliai įvertinti plaukų būklę prieš šviesinimą\n\nkaip pasirinkti tinkamą šviesinimo produktą ir techniką\ndažniausias blond klaidas ir kaip jų išvengti\nkaip kurti tikslias blond ir tonavimo formules\nkaip paruošti plaukus tonavimui ir suvienodinti porėtumą\npH svarbą – kada rinktis rūgštinius\, o kada šarminius dažus\ntiesioginių ir oksidacinių pigmentų skirtumus\ndvigubo tonavimo principus ir jų pritaikymą\n\nDarbas su Davines sistemomis\nThe Century of Light\nMask with Vibrachrom\nThe Present Time\nView\nFinest Pigments\nAlchemic \nPraktinė dalis\nPraktika vyks dirbant su gyvais modeliais – nuo konsultacijos ir plaukų būklės įvertinimo iki formulės sudarymo\, technikos parinkimo ir galutinio rezultato. \n💶 Kaina: 88 €\n📍 Vieta: Davines Ferma
URL:https://davinesferma.lt/en/mokymas/total-blonde-ir-tonavimas-2/
LOCATION:Davines Ferma\, Ostruvkos kaimas 8\, Senieji Trakai\, Trakų r. sav.\, 21142\, Lithuania
ATTACH;FMTTYPE=image/png:https://davinesferma.lt/wp-content/uploads/2026/03/davines-ads-4.png
END:VEVENT
BEGIN:VEVENT
DTSTART;TZID=Europe/Vilnius:20260617T100000
DTEND;TZID=Europe/Vilnius:20260617T170000
DTSTAMP:20260420T001026
CREATED:20260305T115428Z
LAST-MODIFIED:20260305T115541Z
UID:2080-1781690400-1781715600@davinesferma.lt
SUMMARY:DAVINES PLAUKŲ PROCEDŪROS
DESCRIPTION:1 dienos mokymai su Erika Inokaitiene \n📅 Birželio 17 d. \nŠie mokymai skirti kirpėjams ir grožio specialistams\, norintiems giliau suprasti plaukų ir galvos odos priežiūrą bei išmokti taikyti efektyvias Davines procedūras salone. \nProgramoje derinama aiški teorija ir praktika\, padėsianti geriau suprasti klientų poreikius\, parinkti tinkamas procedūras ir užtikrinti ilgalaikius rezultatus. \nMokymų metu sužinosite:\n\nNatural Tech linijos filosofiją ir produktų veikimo principus\ndažniausias galvos odos ir plaukų problemas bei jų sprendimus\nkaip parinkti tinkamiausią procedūrą pagal kliento poreikius\nprocedūrų taikymo protokolus salone\nrekomendacijas kliento plaukų priežiūrai namuose\nDavines ritualus ir masažus\, padedančius atkurti galvos odos balansą ir sukurti išskirtinę salono patirtį\n\nPraktinė dalis\nPraktikos metu mokysitės atlikti konsultaciją\, įvertinti plaukų ir galvos odos būklę bei parinkti tinkamiausią procedūrą. Taip pat sužinosite\, kaip derinti skirtingas procedūras ir kaip edukuoti klientą apie tolimesnę priežiūrą namuose. \nProcedūros bus atliekamos su gyvais modeliais\, todėl įgysite praktinių įgūdžių realiose saloninėse situacijose. \n💶 Kaina: 49 €\n📍 Vieta: Davines Ferma
URL:https://davinesferma.lt/en/mokymas/davines-plauku-proceduros-3/
LOCATION:Davines Ferma\, Ostruvkos kaimas 8\, Senieji Trakai\, Trakų r. sav.\, 21142\, Lithuania
ATTACH;FMTTYPE=image/png:https://davinesferma.lt/wp-content/uploads/2026/03/davines-ads-5-1.png
END:VEVENT
BEGIN:VEVENT
DTSTART;TZID=Europe/Vilnius:20261023T100000
DTEND;TZID=Europe/Vilnius:20261023T100000
DTSTAMP:20260420T001026
CREATED:20260413T161357Z
LAST-MODIFIED:20260413T163943Z
UID:2189-1792749600-1792749600@davinesferma.lt
SUMMARY:ILGŲ PLAUKŲ KIRPIMAS - SLUOKSNIAI
DESCRIPTION:ILGŲ PLAUKŲ KIRPIMAS – SLUOKSNIAI\nŠie mokymai skirti kirpimo meistrams\, kurie nori gilesnio moteriško kirpimo supratimo – ne tik kaip atlikti techniką\, bet ir kodėl ji veikia. \nTai ne masiniai mokymai. Sąmoningai pasirinkta nedidelė grupė\, kad kiekvienas dalyvis gautų dėmesio\, galėtų dirbti ramiai ir pasiimtų realią naudą kasdieniam darbui salone. \n\nApie mokymus\nTema: ILGŲ PLAUKŲ KIRPIMAS – SLUOKSNIAIData: Vasario 28 d.Laikas: 10:00–18:00Vieta: FermaDalyvių skaičius: tik 16 vietų \nMokymai vyksta gyvai ir susideda iš teorinės bei praktinės dalies\, orientuotos į realų darbą su klientais. \n\nMokymų programa\nTeorinė dalis (1 val.)\nTeorinėje dalyje aptariama: \n\nmoteriško kirpimo pagrindinė logika ir formų suvokimas\nlinijų\, proporcijų ir balanso svarba\ndažniausiai pasitaikančios klaidos ir kaip jų išvengti\nkaip kurti kirpimą\, kuris lengvai prisitaiko prie kliento kasdienybės\n\nPraktinė dalis\n\nkirpimas ant manekeno galvos\ndarbas žingsnis po žingsnio\ndėmesys technikai\, švarai ir galutiniam rezultatui\n\npatarimai\, kaip tą pačią techniką pritaikyti skirtingiems plaukų tipams \n\nKam skirti šie mokymai?\nMokymai skirti kirpimo meistrams\, kurie: \n\nnori sustiprinti moteriško kirpimo pagrindus\nsiekia švaresnių\, ilgiau formą išlaikančių kirpimų\nieško daugiau aiškumo ir pasitikėjimo savo technikoje\nnori dirbti ramiau\, sąmoningiau ir užtikrinčiau\n\n\nKaina ir kas įskaičiuota\nMokymų kaina: 350 € \nĮ kainą įskaičiuota: \n\nmanekeno galva praktinei daliai\nmaistas mokymų metu\n\n\nPapildoma informacija\n\nDalyvių skaičius ribotas – tik 16 vietų\nMokymai vyksta gyvai\nVisus reikalingus įrankius (žirkles\, šukas ir kt.) dalyviai atsineša savarankiškai
URL:https://davinesferma.lt/en/mokymas/ilgu-plauku-kirpimas-sluoksniai/
LOCATION:Davines Ferma\, Ostruvkos kaimas 8\, Senieji Trakai\, Trakų r. sav.\, 21142\, Lithuania
ATTACH;FMTTYPE=image/jpeg:https://davinesferma.lt/wp-content/uploads/2026/04/1000012642.jpg
END:VEVENT
END:VCALENDAR