BEGIN:VCALENDAR
VERSION:2.0
PRODID:-//Davines Ferma | Vieta Tavo Renginiams - ECPv6.15.17//NONSGML v1.0//EN
CALSCALE:GREGORIAN
METHOD:PUBLISH
X-WR-CALNAME:Davines Ferma | Vieta Tavo Renginiams
X-ORIGINAL-URL:https://davinesferma.lt/it
X-WR-CALDESC:Eventi per Davines Ferma | Vieta Tavo Renginiams
REFRESH-INTERVAL;VALUE=DURATION:PT1H
X-Robots-Tag:noindex
X-PUBLISHED-TTL:PT1H
BEGIN:VTIMEZONE
TZID:Europe/Vilnius
BEGIN:DAYLIGHT
TZOFFSETFROM:+0200
TZOFFSETTO:+0300
TZNAME:EEST
DTSTART:20240331T010000
END:DAYLIGHT
BEGIN:STANDARD
TZOFFSETFROM:+0300
TZOFFSETTO:+0200
TZNAME:EET
DTSTART:20241027T010000
END:STANDARD
BEGIN:DAYLIGHT
TZOFFSETFROM:+0200
TZOFFSETTO:+0300
TZNAME:EEST
DTSTART:20250330T010000
END:DAYLIGHT
BEGIN:STANDARD
TZOFFSETFROM:+0300
TZOFFSETTO:+0200
TZNAME:EET
DTSTART:20251026T010000
END:STANDARD
BEGIN:DAYLIGHT
TZOFFSETFROM:+0200
TZOFFSETTO:+0300
TZNAME:EEST
DTSTART:20260329T010000
END:DAYLIGHT
BEGIN:STANDARD
TZOFFSETFROM:+0300
TZOFFSETTO:+0200
TZNAME:EET
DTSTART:20261025T010000
END:STANDARD
END:VTIMEZONE
BEGIN:VEVENT
DTSTART;VALUE=DATE:20251201
DTEND;VALUE=DATE:20251202
DTSTAMP:20260420T014413
CREATED:20251124T223746Z
LAST-MODIFIED:20251125T102318Z
UID:1413-1764547200-1764633599@davinesferma.lt
SUMMARY:Aš esu DAVINES
DESCRIPTION:Grožio meistre\, ar tavo salonas pasiruošęs šiandienos klientui? Kliento lūkesčiai keičiasi. Jis nori ne tik gražių plaukų – jis nori patirties\, vertės\, santykio ir sąmoningo pasirinkimo. \n Prie „AŠ ESU DAVINES“ seminaro jungiasi Renata Navickė – verslumo trenerė grožio meistrams\, kuri pristatys šių dienų klientų elgseną\, aktualijas ir besikeičiančius poreikius – remiantis realia statistika ir praktika. Tai ne tik pažintis su Davines. Tai žingsnis į sąmoningai augantį\, pelningą ir šiuolaikišką saloną \n Laukia dovanos\, staigmenos ir vertingos įžvalgos \n Žinios\, kurias galėsi pritaikyti iškart \n Galimybė tapti Davines bendruomenės dalimi \n  \n Trakai\, Davines Ferma \n 2025 12 01 \n Registracijos mokestis – 20 € \n  \n Registruokis dabar ir augink savo saloną kartu su Davines.
URL:https://davinesferma.lt/it/mokymas/as-esu-davines/
LOCATION:Davines Ferma\, Ostruvkos kaimas 8\, Senieji Trakai\, Trakų r. sav.\, 21142\, Lithuania
ATTACH;FMTTYPE=image/png:https://davinesferma.lt/wp-content/uploads/2025/11/98b0ead0-176c-4257-a7eb-d47385dda886.png
END:VEVENT
BEGIN:VEVENT
DTSTART;VALUE=DATE:20251130
DTEND;VALUE=DATE:20251201
DTSTAMP:20260420T014413
CREATED:20251124T223330Z
LAST-MODIFIED:20251125T123541Z
UID:1410-1764460800-1764547199@davinesferma.lt
SUMMARY:Naujo standarto kirpimo mokymai
DESCRIPTION:Bilietą įsigykite čia – https://kodesnikov.com/kursas/metu-salonas-kirpimai/
URL:https://davinesferma.lt/it/mokymas/naujo-standarto-kirpimo-mokymai/
LOCATION:Davines Ferma\, Ostruvkos kaimas 8\, Senieji Trakai\, Trakų r. sav.\, 21142\, Lithuania
ATTACH;FMTTYPE=image/png:https://davinesferma.lt/wp-content/uploads/2025/11/584413288_3834370146855567_644013799798456435_n.png
END:VEVENT
BEGIN:VEVENT
DTSTART;VALUE=DATE:20251127
DTEND;VALUE=DATE:20251128
DTSTAMP:20260420T014413
CREATED:20251124T222536Z
LAST-MODIFIED:20251124T231501Z
UID:1407-1764201600-1764287999@davinesferma.lt
SUMMARY:Kirpimo Meistrai
DESCRIPTION:Mokymai skirti kirpėjams\, norintiems daugiau pasitikėjimo ir aiškumo kasdieniame darbe\, siekiantiems tobulėti ir gilinti kirpimo technikas bei suprasti svarbiausias kirpimo subtilybes. \n\n\n\n\n\n\n\nPrograma: teorinė dalis + praktinė dalis. \n\n\n\n\nLektorius: Martynas Stamkauskas
URL:https://davinesferma.lt/it/mokymas/kirpimo-meistrai/
LOCATION:Davines Ferma\, Ostruvkos kaimas 8\, Senieji Trakai\, Trakų r. sav.\, 21142\, Lithuania
ATTACH;FMTTYPE=image/jpeg:https://davinesferma.lt/wp-content/uploads/2025/11/571359954_18048339380660822_3377182551776834861_n.jpg
END:VEVENT
END:VCALENDAR